BEGIN:VCALENDAR
VERSION:2.0
PRODID:-//Yogi Ben - ECPv6.15.1.1//NONSGML v1.0//EN
CALSCALE:GREGORIAN
METHOD:PUBLISH
X-ORIGINAL-URL:https://yogiben.com
X-WR-CALDESC:Events for Yogi Ben
REFRESH-INTERVAL;VALUE=DURATION:PT1H
X-Robots-Tag:noindex
X-PUBLISHED-TTL:PT1H
BEGIN:VTIMEZONE
TZID:America/Los_Angeles
BEGIN:DAYLIGHT
TZOFFSETFROM:-0800
TZOFFSETTO:-0700
TZNAME:PDT
DTSTART:20210314T100000
END:DAYLIGHT
BEGIN:STANDARD
TZOFFSETFROM:-0700
TZOFFSETTO:-0800
TZNAME:PST
DTSTART:20211107T090000
END:STANDARD
END:VTIMEZONE
BEGIN:VEVENT
DTSTART;TZID=America/Los_Angeles:20210416T110000
DTEND;TZID=America/Los_Angeles:20210416T123000
DTSTAMP:20260423T190919
CREATED:20210417T232823Z
LAST-MODIFIED:20210417T232847Z
UID:39-1618570800-1618576200@yogiben.com
SUMMARY:Kundalini Yoga for Prosperity and Blessings-Apr. 16\, 2021
DESCRIPTION:Intuitive Forager Farmers Markets\nFriday\, April 16\, 2021 at 11 PM PDT – 12:30 PM PDT\nPrice: Free · Duration: 1 hr 30 min\nPublic · Anyone on or off Facebook\n• Conveniently located right off of the 95\n• Inside the old bus station next to the Mob Museum\n• Free Parking right outside of the building\n• Social Distancing honored\n• Indoors with high ceilings and plenty of ventilation from outside\n• Appropriate for all levels\n• Limited space available\, please arrive early to ensure a spot!\n• Please bring your own mat (we have a few extras if you need one!)\n• $10
URL:https://yogiben.com/event/kundalini-yoga-for-prosperity-and-blessings-apr-16-2021/
LOCATION:Intuitive Forager Farmers Markets﻿\, 300 N Casino Center Blvd\, Las Vegas\, NV\, 89101\, United States
CATEGORIES:Yoga Class
ATTACH;FMTTYPE=image/jpeg:https://yogiben.com/wp-content/uploads/2021/04/kundalini-event.jpg
END:VEVENT
END:VCALENDAR